BEGIN:VCALENDAR
PRODID:-//kirchenweb.ch gmbh//veranstaltungsausgabe v2.0//DE
VERSION:2.0
METHOD:PUBLISH
BEGIN:VEVENT
DTSTART:20260520T051500Z
DTEND:20260520T073000Z
LOCATION:Kirchgemeindehaus\, Zürcherstrasse 82\, 7320 Sargans
TRANSP:OPAQUE
SEQUENCE:0
UID:6527-veranstaltung@ref-sargans.ch
DTSTAMP:20260413T065932Z
DESCRIPTION:Gemeinsamer Spaziergang für jedermann und jede Frau\, auch
  mit Kinderwagen und Hund\, gemütliches Tempo\, ca. 1 Stunde.
  Anschliessend oder direkt zum gemütlichen Austausch bei einer Tasse
  Kaffee.\n\nKontakt: Maya Auger 079 777 81 38\n\nWeitere Infos:
  https://www.ref-sargans.ch/veranstaltung/6527
SUMMARY:Frauenverein / Walk and Coffee
PRIORITY:5
X-MICROSOFT-CDO-IMPORTANCE:1
CLASS:PUBLIC
END:VEVENT
END:VCALENDAR
