BEGIN:VCALENDAR
PRODID:-//kirchenweb.ch gmbh//veranstaltungsausgabe v2.0//DE
VERSION:2.0
METHOD:PUBLISH
BEGIN:VEVENT
DTSTART:20260522T163000Z
DTEND:20260522T203000Z
LOCATION:Kirchgemeindehaus\, \,
TRANSP:OPAQUE
SEQUENCE:0
UID:6518-veranstaltung@ref-sargans.ch
DTSTAMP:20260327T101346Z
DESCRIPTION:Kontakt: Maya Auger\, Tel. 079 777 81 38\n\nWeitere Infos:
  https://www.ref-sargans.ch/veranstaltung/6518
SUMMARY:Frauenverein / Krimi Dinner
PRIORITY:5
X-MICROSOFT-CDO-IMPORTANCE:1
CLASS:PUBLIC
END:VEVENT
END:VCALENDAR
