BEGIN:VCALENDAR
PRODID:-//kirchenweb.ch gmbh//veranstaltungsausgabe v2.0//DE
VERSION:2.0
METHOD:PUBLISH
BEGIN:VEVENT
DTSTART:20260420T051500Z
DTEND:20260420T073000Z
LOCATION:Kirchgemeindehaus\, \,
TRANSP:OPAQUE
SEQUENCE:0
UID:6516-veranstaltung@ref-sargans.ch
DTSTAMP:20260414T064307Z
DESCRIPTION:Gemeinsamer Spaziergang für jedermann und jede Frau\, auch
  mit Kinderwagen und Hund\, gemütliches Tempo\, ca. 1 Stunde.
  Anschliessend oder direkt zum gemütlichen Austausch bei einer Tasse
  Kaffee\n\nKontakt: Maya Auger\n\nWeitere Infos:
  https://www.ref-sargans.ch/veranstaltung/6516
SUMMARY:Frauenverein / Walk and Coffee
PRIORITY:5
X-MICROSOFT-CDO-IMPORTANCE:1
CLASS:PUBLIC
END:VEVENT
END:VCALENDAR
