BEGIN:VCALENDAR
PRODID:-//kirchenweb.ch gmbh//veranstaltungsausgabe v2.0//DE
VERSION:2.0
METHOD:PUBLISH
BEGIN:VEVENT
DTSTART:20260820T133000Z
DTEND:20260820T140000Z
LOCATION:Alterszentrum Castelriet\, Grossfeldstrasse 7\, 7320 Sargans
TRANSP:OPAQUE
SEQUENCE:0
UID:6515-veranstaltung@ref-sargans.ch
DTSTAMP:20260310T080220Z
DESCRIPTION:Kontakt: reto.schaufelberger@ref-sargans.ch\n\nWeitere Infos:
  https://www.ref-sargans.ch/veranstaltung/6515
SUMMARY:Castelriet GD-Andacht
PRIORITY:5
X-MICROSOFT-CDO-IMPORTANCE:1
CLASS:PUBLIC
END:VEVENT
END:VCALENDAR
