BEGIN:VCALENDAR
PRODID:-//kirchenweb.ch gmbh//veranstaltungsausgabe v2.0//DE
VERSION:2.0
METHOD:PUBLISH
BEGIN:VEVENT
DTSTART:20260528T133000Z
DTEND:20260528T140000Z
LOCATION:Alterszentrum Castelriet\, Grossfeldstrasse 7\, 7320 Sargans
TRANSP:OPAQUE
SEQUENCE:0
UID:6512-veranstaltung@ref-sargans.ch
DTSTAMP:20260403T094547Z
DESCRIPTION:Eine ruhige Andacht im Alterszentrum Castelriet mit Musik\,
  Gebet und einem stärkenden Wort für den Alltag. Gemeinsam nehmen wir
  uns Zeit zum Innehalten\, Erinnern und Hoffen. Eine Feier in vertrauter
  Atmosphäre\, die Herz und Seele anspricht.\n\nKontakt:
  reto.schaufelberger@ref-sargans.ch\n\nWeitere Infos:
  https://www.ref-sargans.ch/veranstaltung/6512
SUMMARY:Castelriet GD-Andacht
PRIORITY:5
X-MICROSOFT-CDO-IMPORTANCE:1
CLASS:PUBLIC
END:VEVENT
END:VCALENDAR
