BEGIN:VCALENDAR
PRODID:-//kirchenweb.ch gmbh//veranstaltungsausgabe v2.0//DE
VERSION:2.0
METHOD:PUBLISH
BEGIN:VEVENT
DTSTART:20261213T160000Z
DTEND:20261213T173000Z
LOCATION:Kirchgemeindehaus\, Zürcherstrasse 82\, 7320 Sargans
TRANSP:OPAQUE
SEQUENCE:0
UID:6498-veranstaltung@ref-sargans.ch
DTSTAMP:20260216T100216Z
DESCRIPTION:Kontakt: Irene Blatter\n\nWeitere Infos:
  https://www.ref-sargans.ch/veranstaltung/6498
SUMMARY:Konzert Chor 60+
PRIORITY:5
X-MICROSOFT-CDO-IMPORTANCE:1
CLASS:PUBLIC
END:VEVENT
END:VCALENDAR
