BEGIN:VCALENDAR
PRODID:-//kirchenweb.ch gmbh//veranstaltungsausgabe v2.0//DE
VERSION:2.0
METHOD:PUBLISH
BEGIN:VEVENT
DTSTART:20260602T163000Z
DTEND:20260602T193000Z
LOCATION:Kirchgemeindehaus\, Zürcherstrasse 82\, 7320 Sargans
TRANSP:OPAQUE
SEQUENCE:0
UID:6484-veranstaltung@ref-sargans.ch
DTSTAMP:20260120T100428Z
DESCRIPTION:Einmal im Monat laden wir zu FFF – Faith\, Food & Fun ein!\n
 \nFFF bietet Raum für einen Zwischenhalt zur geistlichen Selbstreflexion.
  Hier treffen sich Menschen mit Geschichten\, Fragen\, Erfahrungen\,
  Hoffnungen – und teilen Ihre Erfahrungen. \n\nGemeinsam kochen\, essen
  und schauen wir eine Episode der Serie „The Chosen“. Jede Episode
  führt uns zu biblischen Begegnungen\, die auch heute noch inspirieren. 
 \nDanach tauschen wir uns über die Themen der Folge und die passenden
  Bibelstellen aus.\n\nKontakt: Pfr. Reto Schaufelberger\n\nWeitere Infos:
  https://www.ref-sargans.ch/veranstaltung/6484
SUMMARY:FFF – Faith\, Food & Fun: Staffel 3\, Folge 1
PRIORITY:5
X-MICROSOFT-CDO-IMPORTANCE:1
CLASS:PUBLIC
END:VEVENT
END:VCALENDAR
