BEGIN:VCALENDAR
PRODID:-//kirchenweb.ch gmbh//veranstaltungsausgabe v2.0//DE
VERSION:2.0
METHOD:PUBLISH
BEGIN:VEVENT
DTSTART:20260610T120000Z
DTEND:20260610T140000Z
LOCATION:im Freien vor der Kirche\, Zürcherstrasse 82\, 7320 Sargans
TRANSP:OPAQUE
SEQUENCE:0
UID:6467-veranstaltung@ref-sargans.ch
DTSTAMP:20260112T071405Z
DESCRIPTION:Yoga für Erwachsene mit Kindern\, im Freien\nKosten: CHF
  15.00\, Kinder gratis\n\nKontakt: Saskia Thomann 079 437 50 57\n\nWeitere
  Infos: https://www.ref-sargans.ch/veranstaltung/6467
SUMMARY:Frauenverein / Yoga für Erwachsene mit Kindern
PRIORITY:5
X-MICROSOFT-CDO-IMPORTANCE:1
CLASS:PUBLIC
END:VEVENT
END:VCALENDAR
