BEGIN:VCALENDAR
PRODID:-//kirchenweb.ch gmbh//veranstaltungsausgabe v2.0//DE
VERSION:2.0
METHOD:PUBLISH
BEGIN:VEVENT
DTSTART:20261029T130000Z
DTEND:20261029T160000Z
LOCATION:Kirchgemeindehaus\, Zürcherstrasse 82\, 7320 Sargans
TRANSP:OPAQUE
SEQUENCE:0
UID:6464-veranstaltung@ref-sargans.ch
DTSTAMP:20260105T102356Z
DESCRIPTION:Kontakt: Edith Manser \n\nWeitere Infos:
  https://www.ref-sargans.ch/veranstaltung/6464
SUMMARY:Frauenverein / Klöppelkurs
PRIORITY:5
X-MICROSOFT-CDO-IMPORTANCE:1
CLASS:PUBLIC
END:VEVENT
END:VCALENDAR
