BEGIN:VCALENDAR
PRODID:-//kirchenweb.ch gmbh//veranstaltungsausgabe v2.0//DE
VERSION:2.0
METHOD:PUBLISH
BEGIN:VEVENT
DTSTART:20261208T173000Z
DTEND:20261208T200000Z
LOCATION:Kirchgemeindehaus\, Zürcherstrasse 82\, 7320 Sargans
TRANSP:OPAQUE
SEQUENCE:0
UID:6461-veranstaltung@ref-sargans.ch
DTSTAMP:20260105T101531Z
DESCRIPTION:Adventshöck für Mitglieder\n\nKosten: CHF 15.00\n\nKontakt:
  Karin Spindler 077 476 36 16\n\nWeitere Infos:
  https://www.ref-sargans.ch/veranstaltung/6461
SUMMARY:Frauenverein / Zischtighöck
PRIORITY:5
X-MICROSOFT-CDO-IMPORTANCE:1
CLASS:PUBLIC
END:VEVENT
END:VCALENDAR
