BEGIN:VCALENDAR
PRODID:-//kirchenweb.ch gmbh//veranstaltungsausgabe v2.0//DE
VERSION:2.0
METHOD:PUBLISH
BEGIN:VEVENT
DTSTART:20261121T130000Z
DTEND:20261121T160000Z
LOCATION:Kirchgemeindehaus\, Zürcherstrasse 82\, 7320 Sargans
TRANSP:OPAQUE
SEQUENCE:0
UID:6459-veranstaltung@ref-sargans.ch
DTSTAMP:20260105T100859Z
DESCRIPTION:Kontakt: Andrea Beck 076 482 05 42\n\nWeitere Infos:
  https://www.ref-sargans.ch/veranstaltung/6459
SUMMARY:Frauenverein / Basteln\, Kerzenziehen
PRIORITY:5
X-MICROSOFT-CDO-IMPORTANCE:1
CLASS:PUBLIC
END:VEVENT
END:VCALENDAR
