BEGIN:VCALENDAR
PRODID:-//kirchenweb.ch gmbh//veranstaltungsausgabe v2.0//DE
VERSION:2.0
METHOD:PUBLISH
BEGIN:VEVENT
DTSTART:20261110T173000Z
DTEND:20261110T200000Z
LOCATION:Kirchgemeindehaus\, Zürcherstrasse 82\, 7320 Sargans
TRANSP:OPAQUE
SEQUENCE:0
UID:6457-veranstaltung@ref-sargans.ch
DTSTAMP:20260105T104419Z
DESCRIPTION:Engel aus Draht und Papier basteln mit Corinne\, für eine
  zauberhafte Adventsstimmung\n\nAnmeldung: karinspindler@bluewin.ch oder
  077 476 36 16\n\nKosten CHF 15.00\n\nKontakt: Karin Spindler und Corinne
  Stoffel\n\nWeitere Infos: https://www.ref-sargans.ch/veranstaltung/6457
SUMMARY:Frauenverein / Zischtighöck
PRIORITY:5
X-MICROSOFT-CDO-IMPORTANCE:1
CLASS:PUBLIC
END:VEVENT
END:VCALENDAR
