BEGIN:VCALENDAR
PRODID:-//kirchenweb.ch gmbh//veranstaltungsausgabe v2.0//DE
VERSION:2.0
METHOD:PUBLISH
BEGIN:VEVENT
DTSTART:20260908T163000Z
DTEND:20260908T200000Z
LOCATION:Kirchgemeindehaus\, Zürcherstrasse 82\, 7320 Sargans
TRANSP:OPAQUE
SEQUENCE:0
UID:6456-veranstaltung@ref-sargans.ch
DTSTAMP:20260113T105552Z
DESCRIPTION:Yoga für jegliche Stärke\, wohltuend für Körper\, Geist
  und Seele\n\nKosten: CHF 15.00\n\nKontakt: Saskia Thomann 079 437 50 57\n
 \nWeitere Infos: https://www.ref-sargans.ch/veranstaltung/6456
SUMMARY:Frauenverein / Zischtighöck
PRIORITY:5
X-MICROSOFT-CDO-IMPORTANCE:1
CLASS:PUBLIC
END:VEVENT
END:VCALENDAR
