BEGIN:VCALENDAR
PRODID:-//kirchenweb.ch gmbh//veranstaltungsausgabe v2.0//DE
VERSION:2.0
METHOD:PUBLISH
BEGIN:VEVENT
DTSTART:20260811T163000Z
DTEND:20260811T190000Z
LOCATION:Kirchgemeindehaus\, Zürcherstrasse 82\, 7320 Sargans
TRANSP:OPAQUE
SEQUENCE:0
UID:6455-veranstaltung@ref-sargans.ch
DTSTAMP:20260105T101350Z
DESCRIPTION:Vortrag und Diskussion\, anschliessend grillieren\n\nKontakt:
  Karin Spindler und Corinne Stoffel\n\nWeitere Infos:
  https://www.ref-sargans.ch/veranstaltung/6455
SUMMARY:Frauenverein / Zischtighöck
PRIORITY:5
X-MICROSOFT-CDO-IMPORTANCE:1
CLASS:PUBLIC
END:VEVENT
END:VCALENDAR
