BEGIN:VCALENDAR
PRODID:-//kirchenweb.ch gmbh//veranstaltungsausgabe v2.0//DE
VERSION:2.0
METHOD:PUBLISH
BEGIN:VEVENT
DTSTART:20261210T190000Z
DTEND:20261210T210000Z
LOCATION:Kirche\, Zürcherstrasse 82\, 7320 Sargans
TRANSP:OPAQUE
SEQUENCE:0
UID:6443-veranstaltung@ref-sargans.ch
DTSTAMP:20251218T081324Z
DESCRIPTION:Kontakt: Frau Schlegel 079 396 23 44\n\nWeitere Infos:
  https://www.ref-sargans.ch/veranstaltung/6443
SUMMARY:Konzert Gospelchor "On the Move"
PRIORITY:5
X-MICROSOFT-CDO-IMPORTANCE:1
CLASS:PUBLIC
END:VEVENT
END:VCALENDAR
