BEGIN:VCALENDAR
PRODID:-//kirchenweb.ch gmbh//veranstaltungsausgabe v2.0//DE
VERSION:2.0
METHOD:PUBLISH
BEGIN:VEVENT
DTSTART:20261201T183000Z
DTEND:20261201T210000Z
LOCATION:Kirchgemeindehaus\, Zürcherstrasse 82\, 7320 Sargans
TRANSP:OPAQUE
SEQUENCE:0
UID:6348-veranstaltung@ref-sargans.ch
DTSTAMP:20260105T104502Z
DESCRIPTION:Klangschalen-Meditation gemischt mit Yoga-Stretching bis 21
  Uhr\, danach zusammensitzen bei einem warmen Tee möglich\n\nKosten: CHF
  15.00\n\nKontakt: Saskia Thomann 079 437 50 57\n\nWeitere Infos:
  https://www.ref-sargans.ch/veranstaltung/6348
SUMMARY:Frauenverein / Zischtighöck
PRIORITY:5
X-MICROSOFT-CDO-IMPORTANCE:1
CLASS:PUBLIC
END:VEVENT
END:VCALENDAR
