BEGIN:VCALENDAR
PRODID:-//kirchenweb.ch gmbh//veranstaltungsausgabe v2.0//DE
VERSION:2.0
METHOD:PUBLISH
BEGIN:VEVENT
DTSTART:20261224T150000Z
DTEND:20261224T160000Z
LOCATION:Evangelische Kirche\, Zürcherstrasse 82\, 7320 Sargans
TRANSP:OPAQUE
SEQUENCE:0
UID:6338-veranstaltung@ref-sargans.ch
DTSTAMP:20251014T094537Z
DESCRIPTION:Kontakt: Sozialdiakonin Heidi Rupf\n\nWeitere Infos:
  https://www.ref-sargans.ch/veranstaltung/6338
SUMMARY:Familien-Gottesdienst Weihnachtsfeier
PRIORITY:5
X-MICROSOFT-CDO-IMPORTANCE:1
CLASS:PUBLIC
END:VEVENT
END:VCALENDAR
