BEGIN:VCALENDAR
PRODID:-//kirchenweb.ch gmbh//veranstaltungsausgabe v2.0//DE
VERSION:2.0
METHOD:PUBLISH
BEGIN:VEVENT
DTSTART:20261213T083000Z
DTEND:20261213T093000Z
LOCATION:Evangelische Kirche\, Zürcherstrasse 82\, 7320 Sargans
TRANSP:OPAQUE
SEQUENCE:0
UID:6336-veranstaltung@ref-sargans.ch
DTSTAMP:20251014T094328Z
DESCRIPTION:Kontakt: Diakonin Elsbeth Bass\n\nWeitere Infos:
  https://www.ref-sargans.ch/veranstaltung/6336
SUMMARY:Gemeindegottesdienst
PRIORITY:5
X-MICROSOFT-CDO-IMPORTANCE:1
CLASS:PUBLIC
END:VEVENT
END:VCALENDAR
