BEGIN:VCALENDAR
PRODID:-//kirchenweb.ch gmbh//veranstaltungsausgabe v2.0//DE
VERSION:2.0
METHOD:PUBLISH
BEGIN:VEVENT
DTSTART:20261206T083000Z
DTEND:20261206T093000Z
LOCATION:Evangelische Kirche\, Zürcherstrasse 82\, 7320 Sargans
TRANSP:OPAQUE
SEQUENCE:0
UID:6335-veranstaltung@ref-sargans.ch
DTSTAMP:20251014T094147Z
DESCRIPTION:Kontakt: Pfr. Thomas Beerle\n\nWeitere Infos:
  https://www.ref-sargans.ch/veranstaltung/6335
SUMMARY:Gemeindegottesdienst
PRIORITY:5
X-MICROSOFT-CDO-IMPORTANCE:1
CLASS:PUBLIC
END:VEVENT
END:VCALENDAR
