BEGIN:VCALENDAR
PRODID:-//kirchenweb.ch gmbh//veranstaltungsausgabe v2.0//DE
VERSION:2.0
METHOD:PUBLISH
BEGIN:VEVENT
DTSTART:20261122T083000Z
DTEND:20261122T093000Z
LOCATION:Evangelische Kirche\, Zürcherstrasse 82\, 7320 Sargans
TRANSP:OPAQUE
SEQUENCE:0
UID:6334-veranstaltung@ref-sargans.ch
DTSTAMP:20251014T093945Z
DESCRIPTION:Am Ewigkeitssonntag erinnern wir uns an die Menschen\, die im
  vergangenen Jahr aus unserer Mitte verstorben sind.\nIm Licht der
  Hoffnung und des Glaubens nennen wir ihre Namen\, zünden Lichter an und
  halten gemeinsam inne.\nIm Anschluss lädt der Frauenverein zum Bazaar
  mit Kafistube und Kerzenziehen im Kirchgemeindehaus ein.\nHerzliche
  Einladung – zum Gedenken\, Erinnern und Hoffen.\n\nKontakt: Pfr. Reto
  Schaufelberger\n\nWeitere Infos:
  https://www.ref-sargans.ch/veranstaltung/6334
SUMMARY:Ewigkeitssonntag – Gedenkgottesdienst für die Verstorbenen
PRIORITY:5
X-MICROSOFT-CDO-IMPORTANCE:1
CLASS:PUBLIC
END:VEVENT
END:VCALENDAR
