BEGIN:VCALENDAR
PRODID:-//kirchenweb.ch gmbh//veranstaltungsausgabe v2.0//DE
VERSION:2.0
METHOD:PUBLISH
BEGIN:VEVENT
DTSTART:20260705T073000Z
DTEND:20260705T083000Z
LOCATION:Kirche\, Zürcherstrasse 82\, 7320 Sargans
TRANSP:OPAQUE
SEQUENCE:0
UID:6319-veranstaltung@ref-sargans.ch
DTSTAMP:20260219T104737Z
DESCRIPTION:Kontakt: Pfr. Reto Schaufelberger\n\nWeitere Infos:
  https://www.ref-sargans.ch/veranstaltung/6319
SUMMARY:Gemeindegottesdienst
PRIORITY:5
X-MICROSOFT-CDO-IMPORTANCE:1
CLASS:PUBLIC
END:VEVENT
END:VCALENDAR
