BEGIN:VCALENDAR
PRODID:-//kirchenweb.ch gmbh//veranstaltungsausgabe v2.0//DE
VERSION:2.0
METHOD:PUBLISH
BEGIN:VEVENT
DTSTART:20260830T163000Z
DTEND:20260830T173000Z
LOCATION:Evangelische Kirche\, Zürcherstrasse 82\, 7320 Sargans
TRANSP:OPAQUE
SEQUENCE:0
UID:6305-veranstaltung@ref-sargans.ch
DTSTAMP:20251001T084406Z
DESCRIPTION:Kontakt: Ralf Rupf\n\nWeitere Infos:
  https://www.ref-sargans.ch/veranstaltung/6305
SUMMARY:amPuls Gottesdienst
PRIORITY:5
X-MICROSOFT-CDO-IMPORTANCE:1
CLASS:PUBLIC
END:VEVENT
END:VCALENDAR
