BEGIN:VCALENDAR
PRODID:-//kirchenweb.ch gmbh//veranstaltungsausgabe v2.0//DE
VERSION:2.0
METHOD:PUBLISH
BEGIN:VEVENT
DTSTART:20260514T073000Z
DTEND:20260514T083000Z
LOCATION:Evangelische Kirche\, Zürcherstrasse 82\, 7320 Sargans
TRANSP:OPAQUE
SEQUENCE:0
UID:6297-veranstaltung@ref-sargans.ch
DTSTAMP:20251209T105717Z
DESCRIPTION:Kontakt: Diakonin Heidi Rupf\n\nWeitere Infos:
  https://www.ref-sargans.ch/veranstaltung/6297
SUMMARY:Familien-Gottesdienst
PRIORITY:5
X-MICROSOFT-CDO-IMPORTANCE:1
CLASS:PUBLIC
END:VEVENT
END:VCALENDAR
