BEGIN:VCALENDAR
PRODID:-//kirchenweb.ch gmbh//veranstaltungsausgabe v2.0//DE
VERSION:2.0
METHOD:PUBLISH
BEGIN:VEVENT
DTSTART:20260517T073000Z
DTEND:20260517T083000Z
LOCATION:Evangelische Kirche\, Zürcherstrasse 82\, 7320 Sargans
TRANSP:OPAQUE
SEQUENCE:0
UID:6292-veranstaltung@ref-sargans.ch
DTSTAMP:20260403T094520Z
DESCRIPTION:In diesem besonderen Gottesdienst richten wir den Blick über
  unsere eigenen Grenzen hinaus. Ein Referent von Open Doors gibt Einblick
  in das Leben von Christinnen und Christen\, die ihren Glauben unter
  schwierigen Bedingungen leben.\nIhre Geschichten laden ein\, neu über
  Vertrauen\, Mut und weltweite Verbundenheit nachzudenken – sichtbar und
  schmeckbar auch im Abendmahl. Im Anschluss sind alle herzlich
  eingeladen\, noch zu verweilen und ins Gespräch zu kommen\n\nKontakt:
  Reto Schaufelberger\n\nWeitere Infos:
  https://www.ref-sargans.ch/veranstaltung/6292
SUMMARY:Gottesdienst mit Open Doors
PRIORITY:5
X-MICROSOFT-CDO-IMPORTANCE:1
CLASS:PUBLIC
END:VEVENT
END:VCALENDAR
