BEGIN:VCALENDAR
PRODID:-//kirchenweb.ch gmbh//veranstaltungsausgabe v2.0//DE
VERSION:2.0
METHOD:PUBLISH
BEGIN:VEVENT
DTSTART:20260503T073000Z
DTEND:20260503T083000Z
LOCATION:Evangelische Kirche\, Zürcherstrasse 82\, 7320 Sargans
TRANSP:OPAQUE
SEQUENCE:0
UID:6290-veranstaltung@ref-sargans.ch
DTSTAMP:20260403T094432Z
DESCRIPTION:Gemeinsam mit den Kindern der 3. und 4. Klasse feiern wir
  einen lebendigen Gottesdienst – und freuen uns besonders über zwei
  Taufen in unserer Mitte.\nDie Kinder gestalten den Gottesdienst mit
  Liedern und Gebeten und führen ein kleines Theater auf. So wird
  erfahrbar\, dass Gottes Ja unserem Leben vorausgeht und trägt – ein
  fröhlicher Morgen für Gross und Klein.\n\nKontakt: Reto Schaufelberger
 \n\nWeitere Infos: https://www.ref-sargans.ch/veranstaltung/6290
SUMMARY:Taufgottesdienst mit den EP Kids
PRIORITY:5
X-MICROSOFT-CDO-IMPORTANCE:1
CLASS:PUBLIC
END:VEVENT
END:VCALENDAR
