BEGIN:VCALENDAR
PRODID:-//kirchenweb.ch gmbh//veranstaltungsausgabe v2.0//DE
VERSION:2.0
METHOD:PUBLISH
BEGIN:VEVENT
DTSTART:20260419T073000Z
DTEND:20260419T083000Z
LOCATION:Evangelische Kirche\, Zürcherstrasse 82\, 7320 Sargans
TRANSP:OPAQUE
SEQUENCE:0
UID:6289-veranstaltung@ref-sargans.ch
DTSTAMP:20260312T090526Z
DESCRIPTION:2. Sonntag nach Ostern:\nMiserikordias Domini – wird ins
  Deutsche als „die Barmherzigkeit des Herrn“ übersetzt. \n\nDer gute
  Hirte\nDer zweite Sonntag nach Ostern ist der Hirtensonntag. „Ich bin
  der gute Hirte\,“ sagt Jesus.  Was für ein schönes Bild. Da ist
  Jemand\, der für mich sorgt\, mir den richtigen Weg weist und mich
  sicher durch Gefahren leitet—da ist Jemand\, an den ich mich wenden
  kann\, der meinen Durst nach Lebenssinn stillt und nach mir sucht\, wenn
  ich verloren bin.\nJesus\, der „gute Hirte“\, steht im Mittelpunkt
  des zweiten Sonntags nach Ostern. Das Neue Testament beschreibt Christus
  als den guten Hirten\, der das Verlorene nicht aufgibt und sein Leben
  für die ihm Anvertrauten opfert. Jeder Einzelne zählt in seinen Augen. 
 \n\nKontakt: Heidi Rupf\n\nWeitere Infos:
  https://www.ref-sargans.ch/veranstaltung/6289
SUMMARY:Gemeindegottesdienst
PRIORITY:5
X-MICROSOFT-CDO-IMPORTANCE:1
CLASS:PUBLIC
END:VEVENT
END:VCALENDAR
