BEGIN:VCALENDAR
PRODID:-//kirchenweb.ch gmbh//veranstaltungsausgabe v2.0//DE
VERSION:2.0
METHOD:PUBLISH
BEGIN:VEVENT
DTSTART:20260512T120000Z
DTEND:20260512T133000Z
LOCATION:Kirchgemeindehaus\, Zürcherstrasse 82\, 7320 Sargans
TRANSP:OPAQUE
SEQUENCE:0
UID:6242-veranstaltung@ref-sargans.ch
DTSTAMP:20251118T100610Z
DESCRIPTION:Kontakt: Barbara Schawalder 081 723 36 67\n\nWeitere Infos:
  https://www.ref-sargans.ch/veranstaltung/6242
SUMMARY:Gedankenaustausch
PRIORITY:5
X-MICROSOFT-CDO-IMPORTANCE:1
CLASS:PUBLIC
END:VEVENT
END:VCALENDAR
