BEGIN:VCALENDAR
PRODID:-//kirchenweb.ch gmbh//veranstaltungsausgabe v2.0//DE
VERSION:2.0
METHOD:PUBLISH
BEGIN:VEVENT
DTSTART:20261208T183000Z
DTEND:20261208T190000Z
LOCATION:Evangelische Kirche\, Zürcherstrasse 82\, 7320 Sargans
TRANSP:OPAQUE
SEQUENCE:0
UID:6237-veranstaltung@ref-sargans.ch
DTSTAMP:20251118T100037Z
DESCRIPTION:Kontakt: irene.blatter@ref-sargans.ch\n\nWeitere Infos:
  https://www.ref-sargans.ch/veranstaltung/6237
SUMMARY:Ruhepunkt
PRIORITY:5
X-MICROSOFT-CDO-IMPORTANCE:1
CLASS:PUBLIC
END:VEVENT
END:VCALENDAR
