BEGIN:VCALENDAR
PRODID:-//kirchenweb.ch gmbh//veranstaltungsausgabe v2.0//DE
VERSION:2.0
METHOD:PUBLISH
BEGIN:VEVENT
DTSTART:20261215T130000Z
DTEND:20261215T160000Z
LOCATION:Kirchgemeindehaus\, Zürcherstrasse 82\, 7320 Sargans
TRANSP:OPAQUE
SEQUENCE:0
UID:6232-veranstaltung@ref-sargans.ch
DTSTAMP:20251021T090946Z
DESCRIPTION:Kontakt: Reto Schaufelberger\n\nWeitere Infos:
  https://www.ref-sargans.ch/veranstaltung/6232
SUMMARY:Senioren-Kontaktplausch
PRIORITY:5
X-MICROSOFT-CDO-IMPORTANCE:1
CLASS:PUBLIC
END:VEVENT
END:VCALENDAR
