BEGIN:VCALENDAR
PRODID:-//kirchenweb.ch gmbh//veranstaltungsausgabe v2.0//DE
VERSION:2.0
METHOD:PUBLISH
BEGIN:VEVENT
DTSTART:20260929T120000Z
DTEND:20260929T150000Z
LOCATION:Kirchgemeindehaus\, Zürcherstrasse 82\, 7320 Sargans
TRANSP:OPAQUE
SEQUENCE:0
UID:6229-veranstaltung@ref-sargans.ch
DTSTAMP:20251021T090833Z
DESCRIPTION:Kutschenfahrt Bündner Herrschaft\n\nKontakt: Reto
  Schaufelberger\n\nWeitere Infos:
  https://www.ref-sargans.ch/veranstaltung/6229
SUMMARY:Senioren-Kontaktplausch
PRIORITY:5
X-MICROSOFT-CDO-IMPORTANCE:1
CLASS:PUBLIC
END:VEVENT
END:VCALENDAR
