BEGIN:VCALENDAR
PRODID:-//kirchenweb.ch gmbh//veranstaltungsausgabe v2.0//DE
VERSION:2.0
METHOD:PUBLISH
BEGIN:VEVENT
DTSTART:20260526T120000Z
DTEND:20260526T150000Z
LOCATION:Kirchgemeindehaus\, Zürcherstrasse 82\, 7320 Sargans
TRANSP:OPAQUE
SEQUENCE:0
UID:6226-veranstaltung@ref-sargans.ch
DTSTAMP:20260403T094806Z
DESCRIPTION:Gemeinsam unterwegs sein und die Gemeinschaft geniessen: Unser
  Halbtagesausflug führt uns auf die Staubern\, wo uns schöne Ausblicke
  und gemütliche Stunden erwarten. \nBei einem feinen Zvieri bleibt Zeit
  für Gespräche\, Erinnerungen und das Feiern der Geburtstage im Mai. Ein
  Nachmittag\, der Leib und Seele gut tut und verbindet.\nDieser Anlass
  erfordert eine Anmeldung bis Ende April bei Pfr. Reto Schaufelberger und
  ist kostenpflichtig.\n\nKontakt: Reto Schaufelberger\n\nWeitere Infos:
  https://www.ref-sargans.ch/veranstaltung/6226
SUMMARY:Senioren-Kontaktplausch
PRIORITY:5
X-MICROSOFT-CDO-IMPORTANCE:1
CLASS:PUBLIC
END:VEVENT
END:VCALENDAR
