BEGIN:VCALENDAR
PRODID:-//kirchenweb.ch gmbh//veranstaltungsausgabe v2.0//DE
VERSION:2.0
METHOD:PUBLISH
BEGIN:VEVENT
DTSTART:20260428T120000Z
DTEND:20260428T150000Z
LOCATION:Kirchgemeindehaus\, Zürcherstrasse 82\, 7320 Sargans
TRANSP:OPAQUE
SEQUENCE:0
UID:6225-veranstaltung@ref-sargans.ch
DTSTAMP:20250925T120456Z
DESCRIPTION:Kontakt: Reto Schaufelberger\n\nWeitere Infos:
  https://www.ref-sargans.ch/veranstaltung/6225
SUMMARY:Senioren-Kontaktplausch
PRIORITY:5
X-MICROSOFT-CDO-IMPORTANCE:1
CLASS:PUBLIC
END:VEVENT
END:VCALENDAR
