BEGIN:VCALENDAR
PRODID:-//kirchenweb.ch gmbh//veranstaltungsausgabe v2.0//DE
VERSION:2.0
METHOD:PUBLISH
BEGIN:VEVENT
DTSTART:20260513T181500Z
DTEND:20260513T200000Z
LOCATION:Kirchgemeindehaus\, Zürcherstrasse 82\, 7320 Sargans
TRANSP:OPAQUE
SEQUENCE:0
UID:6088-veranstaltung@ref-sargans.ch
DTSTAMP:20260203T104054Z
DESCRIPTION:Kontakt: Eva Geisler 081 740 65 86 \n\nWeitere Infos:
  https://www.ref-sargans.ch/veranstaltung/6088
SUMMARY:Kirchenchor Probe
PRIORITY:5
X-MICROSOFT-CDO-IMPORTANCE:1
CLASS:PUBLIC
END:VEVENT
END:VCALENDAR
