BEGIN:VCALENDAR
PRODID:-//kirchenweb.ch gmbh//veranstaltungsausgabe v2.0//DE
VERSION:2.0
METHOD:PUBLISH
BEGIN:VEVENT
DTSTART:20260609T163000Z
DTEND:20260609T193000Z
LOCATION:Kirchgemeindehaus\, Zürcherstrasse 82\, 7320 7320 Sargans
TRANSP:OPAQUE
SEQUENCE:0
UID:6009-veranstaltung@ref-sargans.ch
DTSTAMP:20260105T103954Z
DESCRIPTION:Thai kochen\n\nKosten: CHF 15.00\n\nKontakt: Karin Spinlder\n
 \nWeitere Infos: https://www.ref-sargans.ch/veranstaltung/6009
SUMMARY:Frauenverein / Zischtighöck
PRIORITY:5
X-MICROSOFT-CDO-IMPORTANCE:1
CLASS:PUBLIC
END:VEVENT
END:VCALENDAR
