BEGIN:VCALENDAR
PRODID:-//kirchenweb.ch gmbh//veranstaltungsausgabe v2.0//DE
VERSION:2.0
METHOD:PUBLISH
BEGIN:VEVENT
DTSTART:20260512T163000Z
DTEND:20260512T193000Z
LOCATION:Kirchgemeindehaus\, Zürcherstrasse 82\, 7320 7320 Sargans
TRANSP:OPAQUE
SEQUENCE:0
UID:6008-veranstaltung@ref-sargans.ch
DTSTAMP:20251015T094823Z
DESCRIPTION:"Do you speak english"\n\nKontakt: Karin Spindler\n\nWeitere
  Infos: https://www.ref-sargans.ch/veranstaltung/6008
SUMMARY:Frauenverein / Zischtighöck
PRIORITY:5
X-MICROSOFT-CDO-IMPORTANCE:1
CLASS:PUBLIC
END:VEVENT
END:VCALENDAR
