BEGIN:VCALENDAR
PRODID:-//kirchenweb.ch gmbh//veranstaltungsausgabe v2.0//DE
VERSION:2.0
METHOD:PUBLISH
BEGIN:VEVENT
DTSTART:20260518T160000Z
DTEND:20260518T183000Z
LOCATION:Kirchgemeindehaus\, Zürcherstrasse 82\, 7320 Sargans
TRANSP:OPAQUE
SEQUENCE:0
UID:5956-veranstaltung@ref-sargans.ch
DTSTAMP:20250709T100044Z
DESCRIPTION:Kontakt: Ralf Rupf\n\nWeitere Infos:
  https://www.ref-sargans.ch/veranstaltung/5956
SUMMARY:Konf-Weg
PRIORITY:5
X-MICROSOFT-CDO-IMPORTANCE:1
CLASS:PUBLIC
END:VEVENT
END:VCALENDAR
