BEGIN:VCALENDAR
PRODID:-//kirchenweb.ch gmbh//veranstaltungsausgabe v2.0//DE
VERSION:2.0
METHOD:PUBLISH
BEGIN:VEVENT
DTSTART:20260519T173000Z
DTEND:20260519T180000Z
LOCATION:Evangelische Kirche\, Zürcherstrasse 82\, 7320 Sargans
TRANSP:OPAQUE
SEQUENCE:0
UID:5873-veranstaltung@ref-sargans.ch
DTSTAMP:20260403T094615Z
DESCRIPTION:Ein Moment zum Innehalten in der Mitte der Woche: Der
  Ruhepunkt lädt ein zu einer schlichten Feier mit Text\, Musik und
  Stille. Marita Schatz schafft Raum\, um zur Ruhe zu kommen\, Gedanken
  ziehen zu lassen und neue Kraft zu schöpfen.\n\nKontakt: Marita Schatz\n
 \nWeitere Infos: https://www.ref-sargans.ch/veranstaltung/5873
SUMMARY:Ruhepunkt
PRIORITY:5
X-MICROSOFT-CDO-IMPORTANCE:1
CLASS:PUBLIC
END:VEVENT
END:VCALENDAR
