BEGIN:VCALENDAR
PRODID:-//kirchenweb.ch gmbh//veranstaltungsausgabe v2.0//DE
VERSION:2.0
METHOD:PUBLISH
BEGIN:VEVENT
DTSTART:20260421T173000Z
DTEND:20260421T180000Z
LOCATION:Evangelische Kirche\, Zürcherstrasse 82\, 7320 Sargans
TRANSP:OPAQUE
SEQUENCE:0
UID:5872-veranstaltung@ref-sargans.ch
DTSTAMP:20260403T094238Z
DESCRIPTION:Wort\, Musik und Stille führen in eine wohltuende halbe
  Stunde des Innehaltens.\nChristopher Garn gestaltet den Ruhepunkt mit
  Gedanken\, die nachklingen\, und Raum für Besinnung und geistliche
  Tiefe. \nHerzliche Einladung zum gemeinsamen Singen\, Schweigen und
  Auftanken.\n\nKontakt: Christopher Garn\n\nWeitere Infos:
  https://www.ref-sargans.ch/veranstaltung/5872
SUMMARY:Ruhepunkt
PRIORITY:5
X-MICROSOFT-CDO-IMPORTANCE:1
CLASS:PUBLIC
END:VEVENT
END:VCALENDAR
